{
 "currentVersion": 10.41,
 "serviceDescription": "",
 "mapName": "图层",
 "description": "",
 "copyrightText": "",
 "supportsDynamicLayers": false,
 "layers": [
  {
   "id": 0,
   "name": "PLACE_POINT",
   "parentLayerId": -1,
   "defaultVisibility": true,
   "subLayerIds": [
    1,
    2,
    3,
    4,
    5,
    6,
    7,
    8,
    9
   ],
   "minScale": 0,
   "maxScale": 0
  },
  {
   "id": 1,
   "name": "national_capital",
   "parentLayerId": 0,
   "defaultVisibility": true,
   "subLayerIds": null,
   "minScale": 0,
   "maxScale": 100000
  },
  {
   "id": 2,
   "name": "provincial_capital",
   "parentLayerId": 0,
   "defaultVisibility": true,
   "subLayerIds": null,
   "minScale": 25000000,
   "maxScale": 6000001
  },
  {
   "id": 3,
   "name": "city",
   "parentLayerId": 0,
   "defaultVisibility": true,
   "subLayerIds": null,
   "minScale": 5999999.999999994,
   "maxScale": 800001
  },
  {
   "id": 4,
   "name": "county",
   "parentLayerId": 0,
   "defaultVisibility": true,
   "subLayerIds": null,
   "minScale": 800000.0000000014,
   "maxScale": 99999.9999999988
  },
  {
   "id": 5,
   "name": "town",
   "parentLayerId": 0,
   "defaultVisibility": true,
   "subLayerIds": null,
   "minScale": 299999.9999999964,
   "maxScale": 0
  },
  {
   "id": 6,
   "name": "village",
   "parentLayerId": 0,
   "defaultVisibility": true,
   "subLayerIds": null,
   "minScale": 62500,
   "maxScale": 0
  },
  {
   "id": 7,
   "name": "hamlet",
   "parentLayerId": 0,
   "defaultVisibility": true,
   "subLayerIds": null,
   "minScale": 12499.99999999572,
   "maxScale": 0
  },
  {
   "id": 8,
   "name": "farm",
   "parentLayerId": 0,
   "defaultVisibility": true,
   "subLayerIds": null,
   "minScale": 12500,
   "maxScale": 0
  },
  {
   "id": 9,
   "name": "island",
   "parentLayerId": 0,
   "defaultVisibility": true,
   "subLayerIds": null,
   "minScale": 124999.99999999575,
   "maxScale": 0
  },
  {
   "id": 10,
   "name": "TRANSPORT",
   "parentLayerId": -1,
   "defaultVisibility": true,
   "subLayerIds": [
    11,
    12,
    13,
    14,
    15
   ],
   "minScale": 0,
   "maxScale": 0
  },
  {
   "id": 11,
   "name": "bus_station",
   "parentLayerId": 10,
   "defaultVisibility": true,
   "subLayerIds": null,
   "minScale": 5000.000000002695,
   "maxScale": 0
  },
  {
   "id": 12,
   "name": "railway_station",
   "parentLayerId": 10,
   "defaultVisibility": true,
   "subLayerIds": null,
   "minScale": 250000.00000001353,
   "maxScale": 0
  },
  {
   "id": 13,
   "name": "subway_station",
   "parentLayerId": 10,
   "defaultVisibility": true,
   "subLayerIds": null,
   "minScale": 19999.99999999976,
   "maxScale": 0
  },
  {
   "id": 14,
   "name": "ferry_terminal",
   "parentLayerId": 10,
   "defaultVisibility": true,
   "subLayerIds": null,
   "minScale": 23999.999999999713,
   "maxScale": 0
  },
  {
   "id": 15,
   "name": "taxi",
   "parentLayerId": 10,
   "defaultVisibility": true,
   "subLayerIds": null,
   "minScale": 19999.99999999976,
   "maxScale": 0
  },
  {
   "id": 16,
   "name": "POI",
   "parentLayerId": -1,
   "defaultVisibility": true,
   "subLayerIds": [
    17,
    18,
    19,
    20,
    21,
    22,
    23,
    24,
    25,
    26,
    27,
    28,
    29
   ],
   "minScale": 0,
   "maxScale": 0
  },
  {
   "id": 17,
   "name": "traffic",
   "parentLayerId": 16,
   "defaultVisibility": true,
   "subLayerIds": null,
   "minScale": 4999.999999991677,
   "maxScale": 0
  },
  {
   "id": 18,
   "name": "pofw",
   "parentLayerId": 16,
   "defaultVisibility": true,
   "subLayerIds": null,
   "minScale": 15000.000000019101,
   "maxScale": 0
  },
  {
   "id": 19,
   "name": "tourism",
   "parentLayerId": 16,
   "defaultVisibility": true,
   "subLayerIds": null,
   "minScale": 19999.99999999976,
   "maxScale": 0
  },
  {
   "id": 20,
   "name": "shopping",
   "parentLayerId": 16,
   "defaultVisibility": true,
   "subLayerIds": null,
   "minScale": 2999.9999999972097,
   "maxScale": 0
  },
  {
   "id": 21,
   "name": "catering",
   "parentLayerId": 16,
   "defaultVisibility": true,
   "subLayerIds": null,
   "minScale": 1999.9999999944675,
   "maxScale": 0
  },
  {
   "id": 22,
   "name": "accommodation",
   "parentLayerId": 16,
   "defaultVisibility": true,
   "subLayerIds": null,
   "minScale": 12500.000000001228,
   "maxScale": 0
  },
  {
   "id": 23,
   "name": "health",
   "parentLayerId": 16,
   "defaultVisibility": true,
   "subLayerIds": null,
   "minScale": 10000.00000000539,
   "maxScale": 0
  },
  {
   "id": 24,
   "name": "miscpoi",
   "parentLayerId": 16,
   "defaultVisibility": true,
   "subLayerIds": null,
   "minScale": 5999.999999994419,
   "maxScale": 0
  },
  {
   "id": 25,
   "name": "leisure",
   "parentLayerId": 16,
   "defaultVisibility": true,
   "subLayerIds": null,
   "minScale": 5000.000000002695,
   "maxScale": 0
  },
  {
   "id": 26,
   "name": "money",
   "parentLayerId": 16,
   "defaultVisibility": true,
   "subLayerIds": null,
   "minScale": 4999.999999991677,
   "maxScale": 0
  },
  {
   "id": 27,
   "name": "school",
   "parentLayerId": 16,
   "defaultVisibility": true,
   "subLayerIds": null,
   "minScale": 19999.99999999976,
   "maxScale": 0
  },
  {
   "id": 28,
   "name": "public",
   "parentLayerId": 16,
   "defaultVisibility": true,
   "subLayerIds": null,
   "minScale": 12500.000000001228,
   "maxScale": 0
  },
  {
   "id": 29,
   "name": "nature",
   "parentLayerId": 16,
   "defaultVisibility": true,
   "subLayerIds": null,
   "minScale": 80000.00000000095,
   "maxScale": 0
  },
  {
   "id": 30,
   "name": "ROADS",
   "parentLayerId": -1,
   "defaultVisibility": true,
   "subLayerIds": [
    31,
    38,
    43,
    49,
    57
   ],
   "minScale": 80000,
   "maxScale": 0
  },
  {
   "id": 31,
   "name": "Major_roads",
   "parentLayerId": 30,
   "defaultVisibility": true,
   "subLayerIds": [
    32,
    33,
    34,
    35,
    36,
    37
   ],
   "minScale": 0,
   "maxScale": 0
  },
  {
   "id": 32,
   "name": "motorway",
   "parentLayerId": 31,
   "defaultVisibility": true,
   "subLayerIds": null,
   "minScale": 1.1662968747787576E7,
   "maxScale": 2000001
  },
  {
   "id": 33,
   "name": "motorway",
   "parentLayerId": 31,
   "defaultVisibility": true,
   "subLayerIds": null,
   "minScale": 2000000,
   "maxScale": 0
  },
  {
   "id": 34,
   "name": "trunk",
   "parentLayerId": 31,
   "defaultVisibility": true,
   "subLayerIds": null,
   "minScale": 1250000,
   "maxScale": 0
  },
  {
   "id": 35,
   "name": "primary",
   "parentLayerId": 31,
   "defaultVisibility": true,
   "subLayerIds": null,
   "minScale": 300000,
   "maxScale": 0
  },
  {
   "id": 36,
   "name": "secondary",
   "parentLayerId": 31,
   "defaultVisibility": true,
   "subLayerIds": null,
   "minScale": 200000.00000000236,
   "maxScale": 0
  },
  {
   "id": 37,
   "name": "tertiary",
   "parentLayerId": 31,
   "defaultVisibility": true,
   "subLayerIds": null,
   "minScale": 100000,
   "maxScale": 0
  },
  {
   "id": 38,
   "name": "Minor_Roads",
   "parentLayerId": 30,
   "defaultVisibility": true,
   "subLayerIds": [
    39,
    40,
    41,
    42
   ],
   "minScale": 0,
   "maxScale": 0
  },
  {
   "id": 39,
   "name": "unclassified",
   "parentLayerId": 38,
   "defaultVisibility": true,
   "subLayerIds": null,
   "minScale": 80000,
   "maxScale": 0
  },
  {
   "id": 40,
   "name": "residential",
   "parentLayerId": 38,
   "defaultVisibility": true,
   "subLayerIds": null,
   "minScale": 50000,
   "maxScale": 0
  },
  {
   "id": 41,
   "name": "living_street",
   "parentLayerId": 38,
   "defaultVisibility": true,
   "subLayerIds": null,
   "minScale": 50000,
   "maxScale": 0
  },
  {
   "id": 42,
   "name": "pedestrian",
   "parentLayerId": 38,
   "defaultVisibility": true,
   "subLayerIds": null,
   "minScale": 25000,
   "maxScale": 0
  },
  {
   "id": 43,
   "name": "Highway_links",
   "parentLayerId": 30,
   "defaultVisibility": true,
   "subLayerIds": [
    44,
    45,
    46,
    47,
    48
   ],
   "minScale": 0,
   "maxScale": 0
  },
  {
   "id": 44,
   "name": "motorway_link",
   "parentLayerId": 43,
   "defaultVisibility": true,
   "subLayerIds": null,
   "minScale": 200000.00000000236,
   "maxScale": 0
  },
  {
   "id": 45,
   "name": "trunk_link",
   "parentLayerId": 43,
   "defaultVisibility": true,
   "subLayerIds": null,
   "minScale": 62500.000000000735,
   "maxScale": 0
  },
  {
   "id": 46,
   "name": "primary_link",
   "parentLayerId": 43,
   "defaultVisibility": true,
   "subLayerIds": null,
   "minScale": 40000,
   "maxScale": 0
  },
  {
   "id": 47,
   "name": "secondary_link",
   "parentLayerId": 43,
   "defaultVisibility": true,
   "subLayerIds": null,
   "minScale": 25000,
   "maxScale": 0
  },
  {
   "id": 48,
   "name": "tertiary_link",
   "parentLayerId": 43,
   "defaultVisibility": true,
   "subLayerIds": null,
   "minScale": 40000.00000000047,
   "maxScale": 0
  },
  {
   "id": 49,
   "name": "Very_small_roads",
   "parentLayerId": 30,
   "defaultVisibility": true,
   "subLayerIds": [
    50,
    51,
    52,
    53,
    54,
    55,
    56
   ],
   "minScale": 0,
   "maxScale": 0
  },
  {
   "id": 50,
   "name": "service",
   "parentLayerId": 49,
   "defaultVisibility": true,
   "subLayerIds": null,
   "minScale": 20000.000000000236,
   "maxScale": 0
  },
  {
   "id": 51,
   "name": "track",
   "parentLayerId": 49,
   "defaultVisibility": true,
   "subLayerIds": null,
   "minScale": 10000,
   "maxScale": 0
  },
  {
   "id": 52,
   "name": "track_grade1",
   "parentLayerId": 49,
   "defaultVisibility": true,
   "subLayerIds": null,
   "minScale": 10000,
   "maxScale": 0
  },
  {
   "id": 53,
   "name": "track_grade2",
   "parentLayerId": 49,
   "defaultVisibility": true,
   "subLayerIds": null,
   "minScale": 10000,
   "maxScale": 0
  },
  {
   "id": 54,
   "name": "track_grade3",
   "parentLayerId": 49,
   "defaultVisibility": true,
   "subLayerIds": null,
   "minScale": 10000,
   "maxScale": 0
  },
  {
   "id": 55,
   "name": "track_grade4",
   "parentLayerId": 49,
   "defaultVisibility": true,
   "subLayerIds": null,
   "minScale": 10000,
   "maxScale": 0
  },
  {
   "id": 56,
   "name": "track_grade5",
   "parentLayerId": 49,
   "defaultVisibility": true,
   "subLayerIds": null,
   "minScale": 10000,
   "maxScale": 0
  },
  {
   "id": 57,
   "name": "Paths_unsuitable_for_cars",
   "parentLayerId": 30,
   "defaultVisibility": true,
   "subLayerIds": [
    58,
    59,
    60,
    61,
    62
   ],
   "minScale": 0,
   "maxScale": 0
  },
  {
   "id": 58,
   "name": "bridleway",
   "parentLayerId": 57,
   "defaultVisibility": true,
   "subLayerIds": null,
   "minScale": 80000.00000000095,
   "maxScale": 0
  },
  {
   "id": 59,
   "name": "footway",
   "parentLayerId": 57,
   "defaultVisibility": true,
   "subLayerIds": null,
   "minScale": 3999.999999999952,
   "maxScale": 0
  },
  {
   "id": 60,
   "name": "cycleway",
   "parentLayerId": 57,
   "defaultVisibility": true,
   "subLayerIds": null,
   "minScale": 5000.000000000059,
   "maxScale": 0
  },
  {
   "id": 61,
   "name": "path",
   "parentLayerId": 57,
   "defaultVisibility": true,
   "subLayerIds": null,
   "minScale": 10000.000000000118,
   "maxScale": 0
  },
  {
   "id": 62,
   "name": "steps",
   "parentLayerId": 57,
   "defaultVisibility": true,
   "subLayerIds": null,
   "minScale": 5000.000000000059,
   "maxScale": 0
  },
  {
   "id": 63,
   "name": "transport_area",
   "parentLayerId": -1,
   "defaultVisibility": true,
   "subLayerIds": null,
   "minScale": 8000,
   "maxScale": 0
  },
  {
   "id": 64,
   "name": "buildings",
   "parentLayerId": -1,
   "defaultVisibility": true,
   "subLayerIds": null,
   "minScale": 10000.00000000539,
   "maxScale": 0
  },
  {
   "id": 65,
   "name": "RAILTRANSIT",
   "parentLayerId": -1,
   "defaultVisibility": false,
   "subLayerIds": [
    66,
    67,
    68,
    69,
    70,
    71,
    72,
    73
   ],
   "minScale": 0,
   "maxScale": 0
  },
  {
   "id": 66,
   "name": "rail",
   "parentLayerId": 65,
   "defaultVisibility": true,
   "subLayerIds": null,
   "minScale": 750000,
   "maxScale": 0
  },
  {
   "id": 67,
   "name": "light_rail",
   "parentLayerId": 65,
   "defaultVisibility": true,
   "subLayerIds": null,
   "minScale": 60000.0000000103,
   "maxScale": 0
  },
  {
   "id": 68,
   "name": "subway",
   "parentLayerId": 65,
   "defaultVisibility": true,
   "subLayerIds": null,
   "minScale": 60000.0000000103,
   "maxScale": 0
  },
  {
   "id": 69,
   "name": "tram",
   "parentLayerId": 65,
   "defaultVisibility": true,
   "subLayerIds": null,
   "minScale": 60000.0000000103,
   "maxScale": 0
  },
  {
   "id": 70,
   "name": "monorail",
   "parentLayerId": 65,
   "defaultVisibility": true,
   "subLayerIds": null,
   "minScale": 60000.0000000103,
   "maxScale": 0
  },
  {
   "id": 71,
   "name": "narrow_gauge",
   "parentLayerId": 65,
   "defaultVisibility": true,
   "subLayerIds": null,
   "minScale": 60000.0000000103,
   "maxScale": 0
  },
  {
   "id": 72,
   "name": "miniature_railway",
   "parentLayerId": 65,
   "defaultVisibility": true,
   "subLayerIds": null,
   "minScale": 60000.0000000103,
   "maxScale": 0
  },
  {
   "id": 73,
   "name": "funicular",
   "parentLayerId": 65,
   "defaultVisibility": true,
   "subLayerIds": null,
   "minScale": 60000.0000000103,
   "maxScale": 0
  },
  {
   "id": 74,
   "name": "WATER",
   "parentLayerId": -1,
   "defaultVisibility": false,
   "subLayerIds": [
    75,
    76,
    77,
    78
   ],
   "minScale": 0,
   "maxScale": 0
  },
  {
   "id": 75,
   "name": "waterline",
   "parentLayerId": 74,
   "defaultVisibility": true,
   "subLayerIds": null,
   "minScale": 19999.99999999976,
   "maxScale": 0
  },
  {
   "id": 76,
   "name": "wetland",
   "parentLayerId": 74,
   "defaultVisibility": true,
   "subLayerIds": null,
   "minScale": 399999.9999999952,
   "maxScale": 0
  },
  {
   "id": 77,
   "name": "glacier",
   "parentLayerId": 74,
   "defaultVisibility": true,
   "subLayerIds": null,
   "minScale": 500000.00000000506,
   "maxScale": 0
  },
  {
   "id": 78,
   "name": "waterarea",
   "parentLayerId": 74,
   "defaultVisibility": true,
   "subLayerIds": null,
   "minScale": 6000000.000000006,
   "maxScale": 0
  },
  {
   "id": 79,
   "name": "LANDUSE",
   "parentLayerId": -1,
   "defaultVisibility": false,
   "subLayerIds": [
    80,
    81,
    90
   ],
   "minScale": 0,
   "maxScale": 0
  },
  {
   "id": 80,
   "name": "grass",
   "parentLayerId": 79,
   "defaultVisibility": true,
   "subLayerIds": null,
   "minScale": 250000,
   "maxScale": 0
  },
  {
   "id": 81,
   "name": "building",
   "parentLayerId": 79,
   "defaultVisibility": true,
   "subLayerIds": [
    82,
    83,
    84,
    85,
    86,
    87,
    88,
    89
   ],
   "minScale": 0,
   "maxScale": 0
  },
  {
   "id": 82,
   "name": "retail",
   "parentLayerId": 81,
   "defaultVisibility": true,
   "subLayerIds": null,
   "minScale": 12500,
   "maxScale": 0
  },
  {
   "id": 83,
   "name": "commercial",
   "parentLayerId": 81,
   "defaultVisibility": true,
   "subLayerIds": null,
   "minScale": 12500,
   "maxScale": 0
  },
  {
   "id": 84,
   "name": "cemetery",
   "parentLayerId": 81,
   "defaultVisibility": true,
   "subLayerIds": null,
   "minScale": 20000,
   "maxScale": 0
  },
  {
   "id": 85,
   "name": "quarry",
   "parentLayerId": 81,
   "defaultVisibility": true,
   "subLayerIds": null,
   "minScale": 20000,
   "maxScale": 0
  },
  {
   "id": 86,
   "name": "heath",
   "parentLayerId": 81,
   "defaultVisibility": true,
   "subLayerIds": null,
   "minScale": 25000,
   "maxScale": 0
  },
  {
   "id": 87,
   "name": "industrial",
   "parentLayerId": 81,
   "defaultVisibility": true,
   "subLayerIds": null,
   "minScale": 25000.000000002456,
   "maxScale": 0
  },
  {
   "id": 88,
   "name": "military",
   "parentLayerId": 81,
   "defaultVisibility": true,
   "subLayerIds": null,
   "minScale": 39999.99999999952,
   "maxScale": 0
  },
  {
   "id": 89,
   "name": "residential_area",
   "parentLayerId": 81,
   "defaultVisibility": true,
   "subLayerIds": null,
   "minScale": 50000,
   "maxScale": 0
  },
  {
   "id": 90,
   "name": "vegetation",
   "parentLayerId": 79,
   "defaultVisibility": true,
   "subLayerIds": [
    91,
    92,
    93,
    94,
    95,
    96,
    97,
    98,
    99,
    100
   ],
   "minScale": 0,
   "maxScale": 0
  },
  {
   "id": 91,
   "name": "allotments",
   "parentLayerId": 90,
   "defaultVisibility": true,
   "subLayerIds": null,
   "minScale": 8000.000000005413,
   "maxScale": 0
  },
  {
   "id": 92,
   "name": "vineyard",
   "parentLayerId": 90,
   "defaultVisibility": true,
   "subLayerIds": null,
   "minScale": 8000.000000005413,
   "maxScale": 0
  },
  {
   "id": 93,
   "name": "orchard",
   "parentLayerId": 90,
   "defaultVisibility": true,
   "subLayerIds": null,
   "minScale": 8000.000000005413,
   "maxScale": 0
  },
  {
   "id": 94,
   "name": "meadow",
   "parentLayerId": 90,
   "defaultVisibility": true,
   "subLayerIds": null,
   "minScale": 199999.9999999976,
   "maxScale": 0
  },
  {
   "id": 95,
   "name": "recreation_ground",
   "parentLayerId": 90,
   "defaultVisibility": true,
   "subLayerIds": null,
   "minScale": 200000.0000000031,
   "maxScale": 0
  },
  {
   "id": 96,
   "name": "scrub",
   "parentLayerId": 90,
   "defaultVisibility": true,
   "subLayerIds": null,
   "minScale": 250000,
   "maxScale": 0
  },
  {
   "id": 97,
   "name": "park",
   "parentLayerId": 90,
   "defaultVisibility": true,
   "subLayerIds": null,
   "minScale": 249999.99999999703,
   "maxScale": 0
  },
  {
   "id": 98,
   "name": "farm_area",
   "parentLayerId": 90,
   "defaultVisibility": true,
   "subLayerIds": null,
   "minScale": 499999.99999999953,
   "maxScale": 0
  },
  {
   "id": 99,
   "name": "nature_reserve",
   "parentLayerId": 90,
   "defaultVisibility": true,
   "subLayerIds": null,
   "minScale": 2.1911141767169915E7,
   "maxScale": 0
  },
  {
   "id": 100,
   "name": "forest",
   "parentLayerId": 90,
   "defaultVisibility": true,
   "subLayerIds": null,
   "minScale": 1.3706643246701151E7,
   "maxScale": 0
  },
  {
   "id": 101,
   "name": "PLACE_AREA",
   "parentLayerId": -1,
   "defaultVisibility": true,
   "subLayerIds": [
    102,
    103,
    104,
    105
   ],
   "minScale": 0,
   "maxScale": 0
  },
  {
   "id": 102,
   "name": "County_area",
   "parentLayerId": 101,
   "defaultVisibility": true,
   "subLayerIds": null,
   "minScale": 800000,
   "maxScale": 0
  },
  {
   "id": 103,
   "name": "City_area",
   "parentLayerId": 101,
   "defaultVisibility": true,
   "subLayerIds": null,
   "minScale": 4000000,
   "maxScale": 800001
  },
  {
   "id": 104,
   "name": "Province_area",
   "parentLayerId": 101,
   "defaultVisibility": true,
   "subLayerIds": null,
   "minScale": 6000000,
   "maxScale": 0
  },
  {
   "id": 105,
   "name": "Province_area",
   "parentLayerId": 101,
   "defaultVisibility": true,
   "subLayerIds": null,
   "minScale": 0,
   "maxScale": 6000000
  }
 ],
 "tables": [],
 "spatialReference": {
  "wkid": 102100,
  "latestWkid": 3857
 },
 "singleFusedMapCache": true,
 "tileInfo": {
  "rows": 256,
  "cols": 256,
  "dpi": 96,
  "format": "PNG",
  "compressionQuality": 0,
  "origin": {
   "x": -2.0037508342787E7,
   "y": 2.0037508342787E7
  },
  "spatialReference": {
   "wkid": 102100,
   "latestWkid": 3857
  },
  "lods": [
   {
    "level": 0,
    "resolution": 156543.03392800014,
    "scale": 5.91657527591555E8
   },
   {
    "level": 1,
    "resolution": 78271.51696399994,
    "scale": 2.95828763795777E8
   },
   {
    "level": 2,
    "resolution": 39135.75848200009,
    "scale": 1.47914381897889E8
   },
   {
    "level": 3,
    "resolution": 19567.87924099992,
    "scale": 7.3957190948944E7
   },
   {
    "level": 4,
    "resolution": 9783.93962049996,
    "scale": 3.6978595474472E7
   },
   {
    "level": 5,
    "resolution": 4891.96981024998,
    "scale": 1.8489297737236E7
   },
   {
    "level": 6,
    "resolution": 2445.98490512499,
    "scale": 9244648.868618
   },
   {
    "level": 7,
    "resolution": 1222.992452562495,
    "scale": 4622324.434309
   },
   {
    "level": 8,
    "resolution": 611.4962262813797,
    "scale": 2311162.217155
   },
   {
    "level": 9,
    "resolution": 305.74811314055756,
    "scale": 1155581.108577
   },
   {
    "level": 10,
    "resolution": 152.87405657041106,
    "scale": 577790.554289
   },
   {
    "level": 11,
    "resolution": 76.43702828507324,
    "scale": 288895.277144
   },
   {
    "level": 12,
    "resolution": 38.21851414253662,
    "scale": 144447.638572
   },
   {
    "level": 13,
    "resolution": 19.10925707126831,
    "scale": 72223.819286
   },
   {
    "level": 14,
    "resolution": 9.554628535634155,
    "scale": 36111.909643
   },
   {
    "level": 15,
    "resolution": 4.77731426794937,
    "scale": 18055.954822
   },
   {
    "level": 16,
    "resolution": 2.388657133974685,
    "scale": 9027.977411
   },
   {
    "level": 17,
    "resolution": 1.1943285668550503,
    "scale": 4513.988705
   },
   {
    "level": 18,
    "resolution": 0.5971642835598172,
    "scale": 2256.994353
   },
   {
    "level": 19,
    "resolution": 0.29858214164761665,
    "scale": 1128.497176
   },
   {
    "level": 20,
    "resolution": 0.14929107082380833,
    "scale": 564.248588
   },
   {
    "level": 21,
    "resolution": 0.07464553541190416,
    "scale": 282.124294
   },
   {
    "level": 22,
    "resolution": 0.03732276770595208,
    "scale": 141.062147
   },
   {
    "level": 23,
    "resolution": 0.01866138385297604,
    "scale": 70.5310735
   }
  ]
 },
 "initialExtent": {
  "xmin": 4967565.790991389,
  "ymin": 2798027.9406585614,
  "xmax": 1.8289781878961273E7,
  "ymax": 7565057.472733805,
  "spatialReference": {
   "cs": "pcs",
   "wkid": 102100
  }
 },
 "fullExtent": {
  "xmin": 8153786.18118386,
  "ymin": 705353.3433710131,
  "xmax": 1.5103561488768805E7,
  "ymax": 7238404.8951451015,
  "spatialReference": {
   "cs": "pcs",
   "wkid": 102100
  }
 },
 "minScale": 7.3957190948944E7,
 "maxScale": 1128.497176,
 "units": "esriMeters",
 "supportedImageFormatTypes": "PNG32,PNG24,PNG,JPG,DIB,TIFF,EMF,PS,PDF,GIF,SVG,SVGZ,BMP",
 "documentInfo": {
  "Title": "MapOfChina",
  "Author": "",
  "Comments": "OSM数据制作的中国地图,由于使用的是OSM数据且未经地图审核,因此数据可能存在错误,只限私用,不可用于公共网络;制作人只对数据做简单处理及符号装饰,在使用过程中造成的法律责任应由使用者承担。",
  "Subject": "OSM数据制作的中国地图",
  "Category": "",
  "AntialiasingMode": "Best",
  "TextAntialiasingMode": "Force",
  "Keywords": "OSM"
 },
 "capabilities": "Map,Query,Data",
 "supportedQueryFormats": "JSON, AMF, geoJSON",
 "exportTilesAllowed": false,
 "maxRecordCount": 50000,
 "maxImageHeight": 4096,
 "maxImageWidth": 4096,
 "supportedExtensions": "KmlServer"
}
